BEGIN:VCALENDAR
VERSION:2.0
PRODID:-//Plone.org//NONSGML plone.app.event//EN
X-WR-TIMEZONE:Brazil/East
BEGIN:VEVENT
SUMMARY:Audiência Pública 01/2025
DTSTART;TZID=Brazil/East;VALUE=DATE-TIME:20250130T140000
DTSTAMP;VALUE=DATE-TIME:20260423T130026Z
UID:7b67bec286d54c9c910f39b88c41ac04@www.saojoaodopolesine.rs.leg.br
ATTENDEE;CN="SECRETÁRIA CINTIA BISOGNIN ROSSO";ROLE=REQ-PARTICIPANT:SECRE
 TÁRIA CINTIA BISOGNIN ROSSO
ATTENDEE;CN="PREFEITA JAQUELINE MARIA SCHMITZ MILANESI";ROLE=REQ-PARTICIPA
 NT:PREFEITA JAQUELINE MARIA SCHMITZ MILANESI
CREATED;VALUE=DATE-TIME:20250109T113534Z
DESCRIPTION:Prestação de Contas da Saúde - Relatório Detalhado do Quad
 rimestre Anterior - 3º RDQA de 2024.
LAST-MODIFIED;VALUE=DATE-TIME:20250109T113852Z
LOCATION:Nova Sede da Câmara de Vereadores
URL:https://www.saojoaodopolesine.rs.leg.br/institucional/eventos/audienci
 a-publica-01-2025
END:VEVENT
BEGIN:VEVENT
SUMMARY:Sessão Solene de Instalação e Posse dos Eleitos. Dia 01/01/2025
 . 10 HORAS.
DTSTART;TZID=Brazil/East;VALUE=DATE-TIME:20250101T100000
DTEND;TZID=Brazil/East;VALUE=DATE-TIME:20250101T120000
DTSTAMP;VALUE=DATE-TIME:20260423T130026Z
UID:8ea1305e787c49af9cd15df2eec5bece@www.saojoaodopolesine.rs.leg.br
CREATED;VALUE=DATE-TIME:20241218T135640Z
LAST-MODIFIED;VALUE=DATE-TIME:20241218T135650Z
URL:https://www.saojoaodopolesine.rs.leg.br/institucional/eventos/sessao-s
 olene-de-instalacao-e-posse-dos-eleitos-dia-01-01-2025-10-horas
END:VEVENT
BEGIN:VEVENT
SUMMARY:Cerimônia de Diplomação dos Eleitos
DTSTART;TZID=Brazil/East;VALUE=DATE-TIME:20241213T170000
DTEND;TZID=Brazil/East;VALUE=DATE-TIME:20241213T190000
DTSTAMP;VALUE=DATE-TIME:20260423T130026Z
UID:88a211bb49f34644b354cba0720d484d@www.saojoaodopolesine.rs.leg.br
CREATED;VALUE=DATE-TIME:20241128T131758Z
DESCRIPTION:A cerimônia seguirá o rito orientado pelo TRE/RS\, sendo a M
 esa de Honra composta pelo Juiz Eleitoral e Promotor Eleitoral.\n\nSalient
 amos que não há a possibilidade de outra pessoa representar o candidato 
 impossibilitado de receber o diploma no dia e horário marcados. Caso não
  seja possível o comparecimento\, será agendado futuramente a retirada d
 o diploma no Cartório. Os diplomas para os suplentes serão disponibiliza
 dos\, somente a partir do dia seguinte à diplomação\, no site https://d
 iplomas.tre-rs.jus.br/diplomas. \n\nSerá permitido o acesso da imprensa p
 ara registro\, e para tal o credenciado do veículo de comunicação segui
 rá os protocolos do TRE/RS.\n\nO chefe do cartório eleitoral será o elo
  para a organização do cerimonial e fará contato com o Executivo\, o Le
 gislativo e os candidatos para as medidas administrativas pertinentes a or
 ganização e realização do evento. Mais informações poderão ser obti
 das pelos contatos 55-99662-7685 e zon119@tre-rs.jus.br\, junto ao cartór
 io eleitoral.
LAST-MODIFIED;VALUE=DATE-TIME:20241128T131842Z
URL:https://www.saojoaodopolesine.rs.leg.br/institucional/eventos/cerimoni
 a-de-diplomacao-dos-eleitos
END:VEVENT
BEGIN:VEVENT
SUMMARY:
DTSTART;TZID=Brazil/East;VALUE=DATE-TIME:20250307T190000
DTEND;TZID=Brazil/East;VALUE=DATE-TIME:20250307T200000
DTSTAMP;VALUE=DATE-TIME:20260423T130026Z
UID:None
CREATED;VALUE=DATE-TIME:20231222T140359Z
LAST-MODIFIED;VALUE=DATE-TIME:20250307T220259Z
URL:https://www.saojoaodopolesine.rs.leg.br/institucional/eventos/
END:VEVENT
BEGIN:VEVENT
SUMMARY:Audiência Pública - Lei Orçamentária Anual - 15 Horas.
DTSTART;TZID=Brazil/East;VALUE=DATE-TIME:20241125T150000
DTEND;TZID=Brazil/East;VALUE=DATE-TIME:20241125T160000
DTSTAMP;VALUE=DATE-TIME:20260423T130026Z
UID:e45dafec2a9747cdb3cc8655782c36ca@www.saojoaodopolesine.rs.leg.br
CREATED;VALUE=DATE-TIME:20241112T125415Z
LAST-MODIFIED;VALUE=DATE-TIME:20241112T125455Z
URL:https://www.saojoaodopolesine.rs.leg.br/institucional/eventos/audienci
 a-publica-lei-orcamentaria-anual-15-horas
END:VEVENT
BEGIN:VTIMEZONE
TZID:Brazil/East
X-LIC-LOCATION:Brazil/East
BEGIN:DAYLIGHT
DTSTART;VALUE=DATE-TIME:20241020T010000
TZNAME:BRST
TZOFFSETFROM:-0300
TZOFFSETTO:-0200
END:DAYLIGHT
BEGIN:STANDARD
DTSTART;VALUE=DATE-TIME:20250215T230000
TZNAME:BRT
TZOFFSETFROM:-0200
TZOFFSETTO:-0300
END:STANDARD
END:VTIMEZONE
END:VCALENDAR
