BEGIN:VCALENDAR
VERSION:2.0
PRODID:-//Plone.org//NONSGML plone.app.event//EN
X-WR-TIMEZONE:Brazil/East
BEGIN:VEVENT
SUMMARY:Sessão Solene de Instalação e Posse dos Eleitos. Dia 01/01/2025
 . 10 HORAS.
DTSTART;TZID=Brazil/East;VALUE=DATE-TIME:20250101T100000
DTEND;TZID=Brazil/East;VALUE=DATE-TIME:20250101T120000
DTSTAMP;VALUE=DATE-TIME:20260422T042052Z
UID:8ea1305e787c49af9cd15df2eec5bece@www.saojoaodopolesine.rs.leg.br
CREATED;VALUE=DATE-TIME:20241218T135640Z
LAST-MODIFIED;VALUE=DATE-TIME:20241218T135650Z
URL:https://www.saojoaodopolesine.rs.leg.br/institucional/eventos/sessao-s
 olene-de-instalacao-e-posse-dos-eleitos-dia-01-01-2025-10-horas
END:VEVENT
BEGIN:VTIMEZONE
TZID:Brazil/East
X-LIC-LOCATION:Brazil/East
BEGIN:DAYLIGHT
DTSTART;VALUE=DATE-TIME:20241020T010000
TZNAME:BRST
TZOFFSETFROM:-0300
TZOFFSETTO:-0200
END:DAYLIGHT
END:VTIMEZONE
END:VCALENDAR
